BEGIN:VCALENDAR
VERSION:2.0
PRODID:-//Networking Professionals of Westchester - ECPv5.16.0//NONSGML v1.0//EN
CALSCALE:GREGORIAN
METHOD:PUBLISH
X-WR-CALNAME:Networking Professionals of Westchester
X-ORIGINAL-URL:https://thepnwnetwork.com
X-WR-CALDESC:Events for Networking Professionals of Westchester
BEGIN:VTIMEZONE
TZID:America/New_York
BEGIN:DAYLIGHT
TZOFFSETFROM:-0500
TZOFFSETTO:-0400
TZNAME:EDT
DTSTART:20260308T070000
END:DAYLIGHT
BEGIN:STANDARD
TZOFFSETFROM:-0400
TZOFFSETTO:-0500
TZNAME:EST
DTSTART:20261101T060000
END:STANDARD
END:VTIMEZONE
BEGIN:VEVENT
DTSTART;TZID=America/New_York:20260410T073000
DTEND;TZID=America/New_York:20260410T090000
DTSTAMP:20260420T120800
CREATED:20260131T212912Z
LAST-MODIFIED:20260131T212929Z
UID:435-1775806200-1775811600@thepnwnetwork.com
SUMMARY:Networking Meeting
DESCRIPTION:
URL:https://thepnwnetwork.com/event/networking-meeting-4-10-26/
LOCATION:Jean Jacques Culinary Creations\, 468 Bedford Road\, Pleasantville\, NY\, 10570\, United States
END:VEVENT
BEGIN:VEVENT
DTSTART;TZID=America/New_York:20260417T073000
DTEND;TZID=America/New_York:20260417T090000
DTSTAMP:20260420T120800
CREATED:20260131T212935Z
LAST-MODIFIED:20260131T212952Z
UID:437-1776411000-1776416400@thepnwnetwork.com
SUMMARY:Networking Meeting
DESCRIPTION:
URL:https://thepnwnetwork.com/event/networking-meeting-4-17-26/
LOCATION:Jean Jacques Culinary Creations\, 468 Bedford Road\, Pleasantville\, NY\, 10570\, United States
END:VEVENT
BEGIN:VEVENT
DTSTART;TZID=America/New_York:20260501T073000
DTEND;TZID=America/New_York:20260501T090000
DTSTAMP:20260420T120800
CREATED:20260131T213002Z
LAST-MODIFIED:20260131T213020Z
UID:439-1777620600-1777626000@thepnwnetwork.com
SUMMARY:Networking Meeting
DESCRIPTION:
URL:https://thepnwnetwork.com/event/networking-meeting-5-1-26/
LOCATION:Jean Jacques Culinary Creations\, 468 Bedford Road\, Pleasantville\, NY\, 10570\, United States
END:VEVENT
END:VCALENDAR