BEGIN:VCALENDAR
VERSION:2.0
PRODID:-//Networking Professionals of Westchester - ECPv5.16.0//NONSGML v1.0//EN
CALSCALE:GREGORIAN
METHOD:PUBLISH
X-WR-CALNAME:Networking Professionals of Westchester
X-ORIGINAL-URL:https://thepnwnetwork.com
X-WR-CALDESC:Events for Networking Professionals of Westchester
BEGIN:VTIMEZONE
TZID:America/New_York
BEGIN:DAYLIGHT
TZOFFSETFROM:-0500
TZOFFSETTO:-0400
TZNAME:EDT
DTSTART:20240310T070000
END:DAYLIGHT
BEGIN:STANDARD
TZOFFSETFROM:-0400
TZOFFSETTO:-0500
TZNAME:EST
DTSTART:20241103T060000
END:STANDARD
END:VTIMEZONE
BEGIN:VEVENT
DTSTART;TZID=America/New_York:20240216T073000
DTEND;TZID=America/New_York:20240216T090000
DTSTAMP:20260422T182013
CREATED:20230828T142111Z
LAST-MODIFIED:20230828T142127Z
UID:335-1708068600-1708074000@thepnwnetwork.com
SUMMARY:Networking Meeting
DESCRIPTION:
URL:https://thepnwnetwork.com/event/networking-meeting-2-16-24/
LOCATION:Jean Jacques Culinary Creations\, 468 Bedford Road\, Pleasantville\, NY\, 10570\, United States
END:VEVENT
END:VCALENDAR