BEGIN:VCALENDAR
VERSION:2.0
PRODID:-//Networking Professionals of Westchester - ECPv5.16.0//NONSGML v1.0//EN
CALSCALE:GREGORIAN
METHOD:PUBLISH
X-WR-CALNAME:Networking Professionals of Westchester
X-ORIGINAL-URL:https://thepnwnetwork.com
X-WR-CALDESC:Events for Networking Professionals of Westchester
BEGIN:VTIMEZONE
TZID:America/New_York
BEGIN:DAYLIGHT
TZOFFSETFROM:-0500
TZOFFSETTO:-0400
TZNAME:EDT
DTSTART:20230312T070000
END:DAYLIGHT
BEGIN:STANDARD
TZOFFSETFROM:-0400
TZOFFSETTO:-0500
TZNAME:EST
DTSTART:20231105T060000
END:STANDARD
END:VTIMEZONE
BEGIN:VEVENT
DTSTART;TZID=America/New_York:20230414T073000
DTEND;TZID=America/New_York:20230414T090000
DTSTAMP:20260423T074804
CREATED:20230502T211747Z
LAST-MODIFIED:20230502T212309Z
UID:287-1681457400-1681462800@thepnwnetwork.com
SUMMARY:Networking Meeting
DESCRIPTION:
URL:https://thepnwnetwork.com/event/networking-meeting-4-14-23/
LOCATION:Jean Jacques Culinary Creations\, 468 Bedford Road\, Pleasantville\, NY\, 10570\, United States
END:VEVENT
END:VCALENDAR